BEGIN:VCALENDAR
VERSION:2.0
PRODID:-//Public Defender - ECPv6.15.14//NONSGML v1.0//EN
CALSCALE:GREGORIAN
METHOD:PUBLISH
X-ORIGINAL-URL:https://pd.sbcounty.gov
X-WR-CALDESC:Events for Public Defender
REFRESH-INTERVAL;VALUE=DURATION:PT1H
X-Robots-Tag:noindex
X-PUBLISHED-TTL:PT1H
BEGIN:VTIMEZONE
TZID:America/Los_Angeles
BEGIN:DAYLIGHT
TZOFFSETFROM:-0800
TZOFFSETTO:-0700
TZNAME:PDT
DTSTART:20250309T100000
END:DAYLIGHT
BEGIN:STANDARD
TZOFFSETFROM:-0700
TZOFFSETTO:-0800
TZNAME:PST
DTSTART:20251102T090000
END:STANDARD
BEGIN:DAYLIGHT
TZOFFSETFROM:-0800
TZOFFSETTO:-0700
TZNAME:PDT
DTSTART:20260308T100000
END:DAYLIGHT
BEGIN:STANDARD
TZOFFSETFROM:-0700
TZOFFSETTO:-0800
TZNAME:PST
DTSTART:20261101T090000
END:STANDARD
BEGIN:DAYLIGHT
TZOFFSETFROM:-0800
TZOFFSETTO:-0700
TZNAME:PDT
DTSTART:20270314T100000
END:DAYLIGHT
BEGIN:STANDARD
TZOFFSETFROM:-0700
TZOFFSETTO:-0800
TZNAME:PST
DTSTART:20271107T090000
END:STANDARD
END:VTIMEZONE
BEGIN:VEVENT
DTSTART;TZID=America/Los_Angeles:20260513T090000
DTEND;TZID=America/Los_Angeles:20260513T140000
DTSTAMP:20260420T073655
CREATED:20260327T211206Z
LAST-MODIFIED:20260327T211318Z
UID:10000200-1778662800-1778680800@pd.sbcounty.gov
SUMMARY:San Bernardino County Hiring & Expungement Event - Victorville
DESCRIPTION:Join us at the San Bernardino County Hiring & Expungement Event on Wednesday\, May 13. \nOur department will be on-site providing record-clearing expungement services for individuals convicted in San Bernardino County. \nDate & Time:\nWednesday\, May 13\, 2026\n9:00 a.m. – 2:00 p.m. \nLocation:\nVictor Valley College\n18422 Bear Valley Rd\nVictorville\, CA 92395
URL:https://pd.sbcounty.gov/event/san-bernardino-county-hiring-expungement-event-victorville-3/
LOCATION:Victor Valley College\, 18422 Bear Valley Rd\, Victorville\, CA\, 92395\, United States
CATEGORIES:Record Clearing
ATTACH;FMTTYPE=image/jpeg:https://pd.sbcounty.gov/wp-content/uploads/sites/43/2024/09/Event-Calendar-Expungement.jpg
END:VEVENT
END:VCALENDAR