BEGIN:VCALENDAR
VERSION:2.0
PRODID:-//Public Defender - ECPv6.15.14//NONSGML v1.0//EN
CALSCALE:GREGORIAN
METHOD:PUBLISH
X-WR-CALNAME:Public Defender
X-ORIGINAL-URL:https://pd.sbcounty.gov
X-WR-CALDESC:Events for Public Defender
REFRESH-INTERVAL;VALUE=DURATION:PT1H
X-Robots-Tag:noindex
X-PUBLISHED-TTL:PT1H
BEGIN:VTIMEZONE
TZID:America/Los_Angeles
BEGIN:DAYLIGHT
TZOFFSETFROM:-0800
TZOFFSETTO:-0700
TZNAME:PDT
DTSTART:20240310T100000
END:DAYLIGHT
BEGIN:STANDARD
TZOFFSETFROM:-0700
TZOFFSETTO:-0800
TZNAME:PST
DTSTART:20241103T090000
END:STANDARD
BEGIN:DAYLIGHT
TZOFFSETFROM:-0800
TZOFFSETTO:-0700
TZNAME:PDT
DTSTART:20250309T100000
END:DAYLIGHT
BEGIN:STANDARD
TZOFFSETFROM:-0700
TZOFFSETTO:-0800
TZNAME:PST
DTSTART:20251102T090000
END:STANDARD
BEGIN:DAYLIGHT
TZOFFSETFROM:-0800
TZOFFSETTO:-0700
TZNAME:PDT
DTSTART:20260308T100000
END:DAYLIGHT
BEGIN:STANDARD
TZOFFSETFROM:-0700
TZOFFSETTO:-0800
TZNAME:PST
DTSTART:20261101T090000
END:STANDARD
END:VTIMEZONE
BEGIN:VEVENT
DTSTART;TZID=America/Los_Angeles:20250828T100000
DTEND;TZID=America/Los_Angeles:20250828T130000
DTSTAMP:20260421T092907
CREATED:20250519T211227Z
LAST-MODIFIED:20250819T170624Z
UID:10000091-1756375200-1756386000@pd.sbcounty.gov
SUMMARY:San Bernardino County Hiring & Expungement Event - Big Bear Lake
DESCRIPTION:Join us at the San Bernardino County Hiring & Expungement Event on Thursday\, August 28\, from 10:00 am to 1:00 pm. \nOur department will be on-site providing record-clearing expungement services for individuals convicted in San Bernardino County. \nDate & Time:\nThursday\, August 28\, 2025\n10:00 a.m. – 1:00 p.m. \nLocation: Hofert Hall\n39707 Big Bear Blvd\, Big Bear Lake\, CA 92315
URL:https://pd.sbcounty.gov/event/san-bernardino-county-hiring-expungement-event-big-bear-lake/
LOCATION:Hofert Hall\, 39707 Big Bear Blvd\, Big Bear Lake\, CA\, 92315\, United States
CATEGORIES:Community Resources,Record Clearing
ATTACH;FMTTYPE=image/jpeg:https://pd.sbcounty.gov/wp-content/uploads/sites/43/2024/09/Event-Calendar-Expungement.jpg
END:VEVENT
END:VCALENDAR