BEGIN:VCALENDAR
VERSION:2.0
PRODID:-//Public Defender - ECPv6.15.14//NONSGML v1.0//EN
CALSCALE:GREGORIAN
METHOD:PUBLISH
X-WR-CALNAME:Public Defender
X-ORIGINAL-URL:https://pd.sbcounty.gov
X-WR-CALDESC:Events for Public Defender
REFRESH-INTERVAL;VALUE=DURATION:PT1H
X-Robots-Tag:noindex
X-PUBLISHED-TTL:PT1H
BEGIN:VTIMEZONE
TZID:America/Los_Angeles
BEGIN:DAYLIGHT
TZOFFSETFROM:-0800
TZOFFSETTO:-0700
TZNAME:PDT
DTSTART:20230312T100000
END:DAYLIGHT
BEGIN:STANDARD
TZOFFSETFROM:-0700
TZOFFSETTO:-0800
TZNAME:PST
DTSTART:20231105T090000
END:STANDARD
BEGIN:DAYLIGHT
TZOFFSETFROM:-0800
TZOFFSETTO:-0700
TZNAME:PDT
DTSTART:20240310T100000
END:DAYLIGHT
BEGIN:STANDARD
TZOFFSETFROM:-0700
TZOFFSETTO:-0800
TZNAME:PST
DTSTART:20241103T090000
END:STANDARD
BEGIN:DAYLIGHT
TZOFFSETFROM:-0800
TZOFFSETTO:-0700
TZNAME:PDT
DTSTART:20250309T100000
END:DAYLIGHT
BEGIN:STANDARD
TZOFFSETFROM:-0700
TZOFFSETTO:-0800
TZNAME:PST
DTSTART:20251102T090000
END:STANDARD
BEGIN:DAYLIGHT
TZOFFSETFROM:-0800
TZOFFSETTO:-0700
TZNAME:PDT
DTSTART:20260308T100000
END:DAYLIGHT
BEGIN:STANDARD
TZOFFSETFROM:-0700
TZOFFSETTO:-0800
TZNAME:PST
DTSTART:20261101T090000
END:STANDARD
END:VTIMEZONE
BEGIN:VEVENT
DTSTART;TZID=America/Los_Angeles:20250419T090000
DTEND;TZID=America/Los_Angeles:20250419T120000
DTSTAMP:20260421T134259
CREATED:20250415T211524Z
LAST-MODIFIED:20250415T211524Z
UID:10000058-1745053200-1745064000@pd.sbcounty.gov
SUMMARY:IE Rebound Annual Easter Event
DESCRIPTION:Join us at the IE Rebound Annual Easter Event on Saturday\, April 19\, from 9 am to 12 pm. \nThis is a family community event with resources\, games\, raffles\, and easter baskets! Our department will be on-site providing record-clearing expungement services for individuals convicted in San Bernardino County. \nDate & Time:\nSaturday\, April 19\, 2025\n9 a.m. – 12 p.m. \nLocation: I.E. Rebound\n1505 W Highland Ave\, San Bernardino\, CA 92411
URL:https://pd.sbcounty.gov/event/ie-rebound-annual-easter-event/
LOCATION:CA
CATEGORIES:Community Resources,Record Clearing
ATTACH;FMTTYPE=image/jpeg:https://pd.sbcounty.gov/wp-content/uploads/sites/43/2024/09/Event-Calendar-Expungement.jpg
END:VEVENT
BEGIN:VEVENT
DTSTART;TZID=America/Los_Angeles:20250417T120000
DTEND;TZID=America/Los_Angeles:20250417T150000
DTSTAMP:20260421T134259
CREATED:20250320T191405Z
LAST-MODIFIED:20250415T172922Z
UID:10000052-1744891200-1744902000@pd.sbcounty.gov
SUMMARY:CEO 2nd Chance Month Event - Riverside
DESCRIPTION:Join us at the Center for Employment Opportunities (CEO) Inland Empire Second Chance Month Event on Thursday\, April 17\, from 12 pm to 3 pm. \nOur department will be on-site providing record-clearing expungement services for individuals convicted in San Bernardino County. \nDate & Time:\nThursday\, April 17\, 2025\n12 p.m. – 3 p.m. \nLocation: CEO Inland Empire\n1777 Atlanta Ave\, Suite G1\, Riverside\, CA 92507
URL:https://pd.sbcounty.gov/event/ceo-2nd-chance-month-event/
LOCATION:CA
CATEGORIES:Community Resources,Record Clearing
ATTACH;FMTTYPE=image/jpeg:https://pd.sbcounty.gov/wp-content/uploads/sites/43/2024/09/Event-Calendar-Expungement.jpg
END:VEVENT
BEGIN:VEVENT
DTSTART;TZID=America/Los_Angeles:20250402T100000
DTEND;TZID=America/Los_Angeles:20250402T140000
DTSTAMP:20260421T134259
CREATED:20250320T192101Z
LAST-MODIFIED:20250320T192101Z
UID:10000055-1743588000-1743602400@pd.sbcounty.gov
SUMMARY:San Bernardino Valley College Tomorrow's Talent Job Fair
DESCRIPTION:Join us at the San Bernardino Valley College Tomorrow’s Talent Job Fair on Wednesday\, April 2\, from 10 am to 2 pm. \nOur department will be on-site providing record-clearing expungement services for individuals convicted in San Bernardino County. \nDate & Time:\nWednesday\, April 2\n10 a.m. – 2 p.m. \nLocation: San Bernardino Valley College\, North Hall Walk-Way\n701 S Mt Vernon Ave\, San Bernardino\, CA 92410
URL:https://pd.sbcounty.gov/event/san-bernardino-valley-college-tomorrows-talent-job-fair/
LOCATION:CA
CATEGORIES:Community Resources,Record Clearing
ATTACH;FMTTYPE=image/jpeg:https://pd.sbcounty.gov/wp-content/uploads/sites/43/2024/09/Event-Calendar-Expungement.jpg
END:VEVENT
BEGIN:VEVENT
DTSTART;TZID=America/Los_Angeles:20250319T100000
DTEND;TZID=America/Los_Angeles:20250319T140000
DTSTAMP:20260421T134259
CREATED:20250109T182534Z
LAST-MODIFIED:20250109T182534Z
UID:10000026-1742378400-1742392800@pd.sbcounty.gov
SUMMARY:San Bernardino County Needles Job and Resource Fair
DESCRIPTION:Join us at the San Bernardino County Needles Job and Resource Fair on Wednesday\, March 19 from 10 am to 2 pm. \nOur department will be on-site providing record-clearing expungement services for individuals convicted in San Bernardino County. \nDate & Time:\nWednesday\, March 19\, 2025\n10:00 a.m. – 2:00 p.m. \nLocation: El Garces Historic Train Depot\n950 Front Street\, Needles\, CA 92363 \nRegister for this event at https://HDHE0319.eventbrite.com
URL:https://pd.sbcounty.gov/event/san-bernardino-county-needles-job-and-resource-fair/
LOCATION:El Garces Historic Train Depot\, 950 Front Street\, Needles\, CA\, 92363\, United States
CATEGORIES:Mobile Unit,Record Clearing
ATTACH;FMTTYPE=image/jpeg:https://pd.sbcounty.gov/wp-content/uploads/sites/43/2024/09/Event-Calendar-Expungement.jpg
END:VEVENT
BEGIN:VEVENT
DTSTART;TZID=America/Los_Angeles:20250313T090000
DTEND;TZID=America/Los_Angeles:20250313T140000
DTSTAMP:20260421T134259
CREATED:20250109T184453Z
LAST-MODIFIED:20250311T183319Z
UID:10000029-1741856400-1741874400@pd.sbcounty.gov
SUMMARY:The Way World Outreach Job Fair and Record Expungement Event
DESCRIPTION:Join us at The Way World Outreach Job Fair and Record Expungement Event on Thursday March 13 in San Bernardino. Our department will be on-site providing record-clearing expungement services to individuals convicted in San Bernardino County. This is a great event to attend and get connected to community resources and job opportunities. \nClick on this link to register for this event!
URL:https://pd.sbcounty.gov/event/the-way-world-outreach-job-fair-and-record-expungement-event/
LOCATION:The Way World Outreach – Hallmark Campus\, 4680 Hallmark Pkwy\, San Bernardino\, CA\, 92407\, United States
CATEGORIES:Community Resources,Record Clearing
ATTACH;FMTTYPE=image/jpeg:https://pd.sbcounty.gov/wp-content/uploads/sites/43/2024/09/Event-Calendar-Expungement.jpg
END:VEVENT
BEGIN:VEVENT
DTSTART;TZID=America/Los_Angeles:20250312T090000
DTEND;TZID=America/Los_Angeles:20250312T130000
DTSTAMP:20260421T134259
CREATED:20250311T182722Z
LAST-MODIFIED:20250311T183137Z
UID:10000040-1741770000-1741784400@pd.sbcounty.gov
SUMMARY:San Bernardino County Hiring Event
DESCRIPTION:Join us at the San Bernardino County Hiring Event at the Jack Bulik Sports Center\, presented by San Bernardino County Board of Supervisor Jesse Armendarez and the City of Fontana\, on Wednesday\, March 12\, from 9 a.m. to 1 p.m. \nOur department will be on-site providing record-clearing expungement services for individuals convicted in San Bernardino County. \nDate & Time:\nWednesday\, March 12\, 2025\n9:00 a.m. – 1:00 p.m. \nLocation: Jack Bulik Sports Center\n16581 Filbert Street\, Fontana\, CA 92335
URL:https://pd.sbcounty.gov/event/san-bernardino-county-hiring-event/
LOCATION:Jack Bulik Sports Center\, 16581 Filbert Street\, Fontana\, CA\, 92335\, United States
CATEGORIES:Mobile Unit,Record Clearing
ATTACH;FMTTYPE=image/jpeg:https://pd.sbcounty.gov/wp-content/uploads/sites/43/2024/09/Event-Calendar-Expungement.jpg
END:VEVENT
BEGIN:VEVENT
DTSTART;TZID=America/Los_Angeles:20250305T123000
DTEND;TZID=America/Los_Angeles:20250305T160000
DTSTAMP:20260421T134259
CREATED:20250204T181649Z
LAST-MODIFIED:20250305T160537Z
UID:10000033-1741177800-1741190400@pd.sbcounty.gov
SUMMARY:San Bernardino County Public Defender Mobile Defense Event - Lucerne Valley
DESCRIPTION:Our Mobile Defense Unit will be offering FREE LEGAL ASSISTANCE in Lucerne Valley on Wednesday\, March 5th\, from 12:30 pm to 4:00 pm\, providing mobile court services. \nIf you have a conviction in San Bernardino County and need assistance\, our Mobile Defense Unit is here to help. \nWe offer support with: \n✅ Record Clearing Expungement Services\n✅ Request to Clear Bench Warrants\n✅ Modifying Misdemeanor Summary Probation\n✅ Re-enrollment in Court-Required Classes\n✅ Resolution of Outstanding Fines \nSAN BERNARDINO SUPERIOR COURT will be available to provide SELF HELP assistance by answering questions regarding Family Law\, Child Support\, Guardianship\, Landlord/Tenant and Small Claims court procedures. \nOn-Site San Bernardino County Departments: \n\nArrowhead Regional Medical Center\, providing access to resources and health services.\nDepartment of Child Support Services\, providing access to cases and benefits.\nHuman Resources Department\, prodividing career opportunity awareness and career counseling.\nTransitional Assistance Department\, providing access to sign up and access benefits.\n\nOnline registration is closed. If you need assistance\, you can sign-up at our event! \nCheck out a recap of our recent Mobile Defense event in Barstow to learn more about our Mobile Defense Program.
URL:https://pd.sbcounty.gov/event/san-bernardino-county-public-defender-mobile-defense-event-lucerne-valley/
LOCATION:The River’s Edge Ranch\, 33433 Haynes Rd.\, Lucerne Valley\, CA\, 92356\, United States
CATEGORIES:Community Resources,Court Services,Mobile Defense,Mobile Unit,Record Clearing
ATTACH;FMTTYPE=image/jpeg:https://pd.sbcounty.gov/wp-content/uploads/sites/43/2025/02/RVLucerneValley_Eventbrite-800x400-1.jpg
END:VEVENT
BEGIN:VEVENT
DTSTART;TZID=America/Los_Angeles:20250227T103000
DTEND;TZID=America/Los_Angeles:20250227T123000
DTSTAMP:20260421T134259
CREATED:20250212T232003Z
LAST-MODIFIED:20250214T221922Z
UID:10000039-1740652200-1740659400@pd.sbcounty.gov
SUMMARY:Second District Community Resource Fair
DESCRIPTION:Join us for a great morning of county resources\, brought to you by Second District Supervisor Jesse Armendarez on Thursday\, February 27\, from 10:30 a.m. to 12:30 p.m.! \nThis event is designed to connect you and your family with key resources and services oﬀered by San Bernardino County. We’re bringing multiple County Departments directly to you\, making it easier than ever to learn about the support available and access the help you need. \nOur department will be on-site providing record-clearing expungement services for individuals convicted in San Bernardino County. \nAdditionally\, you’ll also have the chance to meet representatives from: \n– Workforce Development – Employment resources and job opportunities\n– Behavioral Health – Mental health and wellness services\n– Public Health – Community health programs and services\n– Code Enforcement – Assistance with code compliance questions \nDate & Time:\nThursday\, February 27\, 2025\n10:30 a.m. – 12:30 p.m. \nLocation: Don Day Community Center\n14501 Live Oak Ave\, Fontana\, CA 92337
URL:https://pd.sbcounty.gov/event/san-bernardino-county-2nd-district-community-resource-fair/
LOCATION:Don Day Community Center\, 14501 Live Oak Ave\, Fontana\, CA\, 92337\, United States
CATEGORIES:Community Resources,Record Clearing
ATTACH;FMTTYPE=image/jpeg:https://pd.sbcounty.gov/wp-content/uploads/sites/43/2024/09/Event-Calendar-Expungement.jpg
END:VEVENT
BEGIN:VEVENT
DTSTART;TZID=America/Los_Angeles:20250220T120000
DTEND;TZID=America/Los_Angeles:20250220T153000
DTSTAMP:20260421T134259
CREATED:20250109T180908Z
LAST-MODIFIED:20250212T232349Z
UID:10000023-1740052800-1740065400@pd.sbcounty.gov
SUMMARY:Career Compass: Pathways to Success Event
DESCRIPTION:Join us at the Career Compass: Pathways to Success Event\, hosted by the San Bernardino County ROP from noon to 3:30 pm. \nCareer Compass: Pathways to Success is designed for adult learners\, job seekers\, and career changers in San Bernardino County. If you are a student from an adult school\, a career-changer looking for new opportunities\, or someone who is re-entering the workforce\, this event is for you. Whether you’re looking to learn new skills\, explore new career paths\, or connect with potential employers\, Career Compass: Pathways to Success has something to offer. \nOur department will be on-site providing a path to employment and housing by offering record-clearing expungement services to individuals convicted in San Bernardino County. \nClick here to register for this event.
URL:https://pd.sbcounty.gov/event/career-compass-pathways-to-success-event/
LOCATION:Dorothy Inghram Learning Center\, 670 East Carnegie Drive\, San Bernardino\, CA\, 92408\, United States
CATEGORIES:Community Resources,Record Clearing
ATTACH;FMTTYPE=image/jpeg:https://pd.sbcounty.gov/wp-content/uploads/sites/43/2024/09/Event-Calendar-Expungement.jpg
END:VEVENT
BEGIN:VEVENT
DTSTART;TZID=America/Los_Angeles:20250206T090000
DTEND;TZID=America/Los_Angeles:20250206T120000
DTSTAMP:20260421T134259
CREATED:20250130T165050Z
LAST-MODIFIED:20250130T165050Z
UID:10000031-1738832400-1738843200@pd.sbcounty.gov
SUMMARY:SBC Workforce Development – Cathedral of Praise Job Fair
DESCRIPTION:Join us at the San Bernardino County Workforce Development – Cathedral of Praise Job Fair on Thursday\, February 6\, from 9 am to 12 pm. \nOur department will be on-site providing record-clearing expungement services for individuals convicted in San Bernardino County. \nDate & Time:\nThursday\, February 6\, 2025\n9 a.m. – 12 p.m. \nLocation: Cathedral of Praise\n3030 Del Rosa Ave.\, San Bernardino\, CA 92404
URL:https://pd.sbcounty.gov/event/sbc-workforce-development-cathedral-of-praise-job-fair/
LOCATION:Cathedral of Praise\, 3030 Del Rosa Ave.\, San Bernardino\, CA\, 92404\, United States
CATEGORIES:Mobile Unit,Record Clearing
ATTACH;FMTTYPE=image/jpeg:https://pd.sbcounty.gov/wp-content/uploads/sites/43/2024/09/Event-Calendar-Expungement.jpg
END:VEVENT
BEGIN:VEVENT
DTSTART;TZID=America/Los_Angeles:20250131T090000
DTEND;TZID=America/Los_Angeles:20250131T120000
DTSTAMP:20260421T134259
CREATED:20250109T175546Z
LAST-MODIFIED:20250109T175607Z
UID:10000020-1738314000-1738324800@pd.sbcounty.gov
SUMMARY:Redlands Chamber of Commerce Hiring and Expungement Event
DESCRIPTION:Join us at the Redlands Chamber of Commerce Hiring and Expungement Event from 9 am to noon. This is an opportunity to connect with employers who are hiring and get connected to resources. Our department will be on-site providing a path to employment and housing by offering record-clearing expungement services to individuals convicted in San Bernardino County.
URL:https://pd.sbcounty.gov/event/redlands-chamber-of-commerce-hiring-and-expungement-event/
LOCATION:Colton Redlands Yucaipa ROP\, 1214 Indiana Court\, Building C\, Redlands\, 92374\, United States
CATEGORIES:Mobile Unit,Record Clearing
ATTACH;FMTTYPE=image/jpeg:https://pd.sbcounty.gov/wp-content/uploads/sites/43/2024/09/Event-Calendar-Expungement.jpg
END:VEVENT
BEGIN:VEVENT
DTSTART;TZID=America/Los_Angeles:20241219T150000
DTEND;TZID=America/Los_Angeles:20241219T190000
DTSTAMP:20260421T134259
CREATED:20241108T224323Z
LAST-MODIFIED:20241202T205702Z
UID:10000013-1734620400-1734634800@pd.sbcounty.gov
SUMMARY:DCSS Joy of Giving Event
DESCRIPTION:Join us at the Joy of Giving event hosted by the San Bernardino County Child Support Services Fatherhood Committee. \nBring the whole family for an afternoon of fun and resources: \n\nPhoto with Santa\nHot chocolate & cookies (while supplies last)\nKids crafts\nGifts for select registered attendees (while supplies last)\nChild Support Specialists on-site\n\nOur staff will be providing Record-Clearing Expungement Services for individuals convicted in San Bernardino County. \nPartners on-site offering services: \n\nInland Empire Father Involvement Coalition (IEFIC)\nChildren’s Network\nFamily Law Facilitator (FLF)\nCommunity Action Partnership\nPreschool Services F.I.R.E Program
URL:https://pd.sbcounty.gov/event/dcss-joy-of-giving-event/
LOCATION:DCSS Loma Linda\, 10417 Mountain View Ave.\, Loma Linda\, CA\, 92354\, United States
CATEGORIES:Community Resources,Record Clearing
ATTACH;FMTTYPE=image/png:https://pd.sbcounty.gov/wp-content/uploads/sites/43/2024/11/JOG_FHOOD_V9.png
END:VEVENT
BEGIN:VEVENT
DTSTART;TZID=America/Los_Angeles:20241204T123000
DTEND;TZID=America/Los_Angeles:20241204T160000
DTSTAMP:20260421T134259
CREATED:20241031T001201Z
LAST-MODIFIED:20241107T174839Z
UID:10000007-1733315400-1733328000@pd.sbcounty.gov
SUMMARY:San Bernardino County Public Defender Mobile Defense Event - Barstow
DESCRIPTION:Our Mobile Defense Unit will be offering free legal assistance in Barstow on Wednesday\, December 4th\, from 12:30 pm to 4:00 pm\, providing mobile court services. \nIf you have a conviction in San Bernardino County and need assistance\, our Mobile Defense Unit is here to help. \nWe offer support with: \n✅ Record Clearing Expungement Services\n✅ Request to Clear Bench Warrants\n✅ Modifying Misdemeanor Summary Probation\n✅ Re-enrollment in Court-Required Classes\n✅ Resolution of Outstanding Fines \nRegistration is highly encouraged\, as space is limited. \nRegister Here: Barstow Mobile Defense Event 
URL:https://pd.sbcounty.gov/event/public-defender-mobile-defense-event-barstow-dec24/
LOCATION:Barstow Church of God in Christ\, 1375 Bishop Nathaniel Jones Jr Way\, Barstow\, CA\, 93211\, United States
CATEGORIES:Community Resources,Court Services,Mobile Defense,Mobile Unit,Record Clearing
ATTACH;FMTTYPE=image/png:https://pd.sbcounty.gov/wp-content/uploads/sites/43/2024/09/RVBarstow_wp.png
END:VEVENT
BEGIN:VEVENT
DTSTART;TZID=America/Los_Angeles:20241121T100000
DTEND;TZID=America/Los_Angeles:20241121T140000
DTSTAMP:20260421T134259
CREATED:20241119T204301Z
LAST-MODIFIED:20241119T204345Z
UID:10000016-1732183200-1732197600@pd.sbcounty.gov
SUMMARY:IE Rebound Re-Entry Resource Fair
DESCRIPTION:Please join us at the IE Rebound Re-Entry Resource Fair on Thursday\, November 21 from 10 am to 2 pm. Our staff will be on-site providing Record-Clearing Expungement Services for individuals convicted in San Bernardino County.
URL:https://pd.sbcounty.gov/event/ie-rebound-resource-fair-dec21/
LOCATION:New Hope Family Life Center\, 1505 W Highland Ave\, San Bernardino\, CA\, 92411\, United States
CATEGORIES:Community Resources,Record Clearing
ATTACH;FMTTYPE=image/jpeg:https://pd.sbcounty.gov/wp-content/uploads/sites/43/2024/09/Event-Calendar-Expungement.jpg
END:VEVENT
BEGIN:VEVENT
DTSTART;TZID=America/Los_Angeles:20241114T100000
DTEND;TZID=America/Los_Angeles:20241114T140000
DTSTAMP:20260421T134259
CREATED:20241108T005648Z
LAST-MODIFIED:20241108T005648Z
UID:10000010-1731578400-1731592800@pd.sbcounty.gov
SUMMARY:IE Second Chance Reentry Job Fair & Hiring Event
DESCRIPTION:Looking for a job? Please join us at the Second Chance Hiring Event on Thursday\, November 14 from 10 am to 2 pm in San Bernardino.  Employers committed to hiring justice-impacted individuals will be on-site. Our staff will also be providing Record-Clearing Expungement Services for individuals convicted in San Bernardino County. Community partners will be providing additional reentry support services. \nRegister today: Second Chance Hiring Event
URL:https://pd.sbcounty.gov/event/ie-second-chance-reentry-job-fair-hiring-event/
LOCATION:Goodwill SoCal Inland Empire Headquarters\, 8120 Palm Lane\, San Bernardino\, CA\, 92410\, United States
CATEGORIES:Community Resources,Record Clearing
ATTACH;FMTTYPE=image/jpeg:https://pd.sbcounty.gov/wp-content/uploads/sites/43/2024/09/Event-Calendar-Expungement.jpg
END:VEVENT
BEGIN:VEVENT
DTSTART;TZID=America/Los_Angeles:20241024T100000
DTEND;TZID=America/Los_Angeles:20241024T140000
DTSTAMP:20260421T134259
CREATED:20240919T221533Z
LAST-MODIFIED:20240919T225911Z
UID:10000004-1729764000-1729778400@pd.sbcounty.gov
SUMMARY:Barstow Job Fair & Resource
DESCRIPTION:Please join us at the Barstow Job Fair & Resource Event on Thursday October 24 from 10 am to 2 pm. Our staff will be on-site providing Record-Clearing Expungement Services for individuals convicted in San Bernardino County. Register today.
URL:https://pd.sbcounty.gov/event/barstow-job-fair-resource/
LOCATION:Cora Harper Community Center\, 841 Barstow Road\, Barstow\, CA\, 92311\, United States
CATEGORIES:Mobile Unit,Record Clearing
ATTACH;FMTTYPE=image/jpeg:https://pd.sbcounty.gov/wp-content/uploads/sites/43/2024/09/Event-Calendar-Expungement.jpg
END:VEVENT
BEGIN:VEVENT
DTSTART;TZID=America/Los_Angeles:20241010T150000
DTEND;TZID=America/Los_Angeles:20241010T180000
DTSTAMP:20260421T134259
CREATED:20240919T202216Z
LAST-MODIFIED:20240919T220349Z
UID:10000001-1728572400-1728583200@pd.sbcounty.gov
SUMMARY:CUTE Trunk or Treat Event
DESCRIPTION:The San Bernardino County Public Defender’s Office C.U.T.E program is hosting a spooktacular Trunk or Treat event this year! \nOrganized by our Children United Through Empowerment (C.U.T.E.) social work program\, this community outreach event is dedicated to supporting children coping with parental incarceration. \nDress up in your best costume and bring your family and friends. Our event promises to be a treat-filed extravaganza with creatively decorated trunks\, delicious candy\, and exciting games. Don’t miss out! \nWant to be a vendor at our Trunk or Treat event?\nPlease submit your request by emailing cute@pd.sbcounty.gov
URL:https://pd.sbcounty.gov/event/cute-trunk-or-treat-event/
LOCATION:San Bernardino\, 900 E Gilbert St.\, San Bernardino\, CA\, 92415\, United States
CATEGORIES:Community Resources,CUTE
ATTACH;FMTTYPE=image/jpeg:https://pd.sbcounty.gov/wp-content/uploads/sites/43/2024/09/cute-trunkortreat.jpg
END:VEVENT
BEGIN:VEVENT
DTSTART;TZID=America/Los_Angeles:20240925T090000
DTEND;TZID=America/Los_Angeles:20240925T140000
DTSTAMP:20260421T134259
CREATED:20240924T163745Z
LAST-MODIFIED:20240924T163745Z
UID:10000006-1727254800-1727272800@pd.sbcounty.gov
SUMMARY:BCCIE Job Fair
DESCRIPTION:Please join us at the Black Chamber of Commerce Inland Empire Job Fair on Wednesday September 25 from 9 am to 2 pm. Our staff will be on-site providing Record-Clearing Expungement Services for individuals convicted in San Bernardino County. Register today.
URL:https://pd.sbcounty.gov/event/bccie-job-fair/
LOCATION:New Hope Family Life Center\, 1505 W Highland Ave\, San Bernardino\, CA\, 92411\, United States
CATEGORIES:Community Resources,Record Clearing
ATTACH;FMTTYPE=image/jpeg:https://pd.sbcounty.gov/wp-content/uploads/sites/43/2024/09/Event-Calendar-Expungement.jpg
END:VEVENT
END:VCALENDAR